View In:
ArcGIS JavaScript
ArcGIS Online Map Viewer
ArcGIS Earth
ArcMap
View Footprint In:
ArcGIS Online Map Viewer
Service Description: Digital Elevation Model generated by LIDAR 2018 data. NOT TO SCALE.
Name: Aerials/DEM_2018VC
Description: Digital Elevation Model generated by LIDAR 2018 data. NOT TO SCALE.
Single Fused Map Cache: false
Extent:
XMin: 434996.4833527468
YMin: 1605002.0246124864
XMax: 739998.9833527468
YMax: 1855004.5246124864
Spatial Reference: 2881
(2881)
VCSWkid(5703)
LatestVCSWkid(5703)
Initial Extent:
XMin: 434996.4833527468
YMin: 1605002.0246124864
XMax: 739998.9833527468
YMax: 1855004.5246124864
Spatial Reference: 2881
(2881)
VCSWkid(5703)
LatestVCSWkid(5703)
Full Extent:
XMin: 434996.4833527468
YMin: 1605002.0246124864
XMax: 739998.9833527468
YMax: 1855004.5246124864
Spatial Reference: 2881
(2881)
VCSWkid(5703)
LatestVCSWkid(5703)
Pixel Size X: 2.5
Pixel Size Y: 2.5
Band Count: 1
Pixel Type: F32
RasterFunction Infos: {"rasterFunctionInfos": [{
"name": "None",
"description": "",
"help": ""
}]}
Mensuration Capabilities: Basic,3D
Has Histograms: true
Has Colormap: false
Has Multi Dimensions : false
Rendering Rule:
Min Scale: 0
Max Scale: 0
Copyright Text: Volusia GIS
Service Data Type: esriImageServiceDataTypeGeneric
Min Values: -6.0199999809265
Max Values: 145.07955932617
Mean Values: 24.676030246905
Standard Deviation Values: 19.788411369623
Object ID Field:
Fields:
None
Default Mosaic Method: Center
Allowed Mosaic Methods:
SortField:
SortValue: null
Mosaic Operator: First
Default Compression Quality: 75
Default Resampling Method: Bilinear
Max Record Count: null
Max Image Height: 4100
Max Image Width: 15000
Max Download Image Count: null
Max Mosaic Image Count: null
Allow Raster Function: true
Allow Copy: true
Allow Analysis: true
Allow Compute TiePoints: false
Supports Statistics: false
Supports Advanced Queries: false
Use StandardizedQueries: true
Raster Type Infos:
Name: Raster Dataset
Description: Supports all ArcGIS Raster Datasets
Help:
Has Raster Attribute Table: false
Edit Fields Info: null
Ownership Based AccessControl For Rasters: null
Child Resources:
Info
Histograms
Statistics
Key Properties
Legend
Raster Function Infos
Supported Operations:
Export Image
Identify
Measure
Compute Histograms
Compute Statistics Histograms
Get Samples
Compute Class Statistics
Query Boundary
Compute Pixel Location
Compute Angles
Validate
Project