{
 "currentVersion": 10.91,
 "serviceDescription": "Digital Elevation Model generated by LIDAR 2018 data. NOT TO SCALE. ",
 "name": "Aerials/DEM_2018VC",
 "description": "Digital Elevation Model generated by LIDAR 2018 data. NOT TO SCALE. ",
 "extent": {
  "xmin": 434996.4833527468,
  "ymin": 1605002.0246124864,
  "xmax": 739998.9833527468,
  "ymax": 1855004.5246124864,
  "spatialReference": {
   "wkid": 2881,
   "latestWkid": 2881,
   "vcsWkid": 5703,
   "latestVcsWkid": 5703
  }
 },
 "initialExtent": {
  "xmin": 434996.4833527468,
  "ymin": 1605002.0246124864,
  "xmax": 739998.9833527468,
  "ymax": 1855004.5246124864,
  "spatialReference": {
   "wkid": 2881,
   "latestWkid": 2881,
   "vcsWkid": 5703,
   "latestVcsWkid": 5703
  }
 },
 "fullExtent": {
  "xmin": 434996.4833527468,
  "ymin": 1605002.0246124864,
  "xmax": 739998.9833527468,
  "ymax": 1855004.5246124864,
  "spatialReference": {
   "wkid": 2881,
   "latestWkid": 2881,
   "vcsWkid": 5703,
   "latestVcsWkid": 5703
  }
 },
 "heightModelInfo": {
  "heightModel": "gravity_related_height",
  "vertCRS": "NAVD_1988",
  "heightUnit": "meter"
 },
 "hasMultidimensions": false,
 "pixelSizeX": 2.5,
 "pixelSizeY": 2.5,
 "datasetFormat": "TIFF",
 "uncompressedSize": 48800888004,
 "blockWidth": 128,
 "blockHeight": 128,
 "compressionType": "None",
 "bandNames": [
  "Band_1"
 ],
 "allowCopy": true,
 "allowAnalysis": true,
 "bandCount": 1,
 "noDataValue": 0,
 "noDataValues": [
  0
 ],
 "pixelType": "F32",
 "minPixelSize": 0,
 "maxPixelSize": 0,
 "copyrightText": "Volusia GIS",
 "serviceDataType": "esriImageServiceDataTypeGeneric",
 "serviceSourceType": "esriImageServiceSourceTypeDataset",
 "minValues": [
  -6.0199999809265
 ],
 "maxValues": [
  145.07955932617
 ],
 "meanValues": [
  24.676030246905
 ],
 "stdvValues": [
  19.788411369623
 ],
 "objectIdField": "",
 "fields": [],
 "capabilities": "Image,Metadata,Mensuration",
 "defaultMosaicMethod": "Center",
 "allowedMosaicMethods": "",
 "sortField": "",
 "sortValue": null,
 "sortAscending": true,
 "mosaicOperator": "First",
 "defaultCompressionQuality": 75,
 "defaultResamplingMethod": "Bilinear",
 "maxImageHeight": 4100,
 "maxImageWidth": 15000,
 "allowRasterFunction": true,
 "rasterFunctionInfos": [
  {
   "name": "None",
   "description": "",
   "help": ""
  }
 ],
 "rasterTypeInfos": [
  {
   "name": "Raster Dataset",
   "description": "Supports all ArcGIS Raster Datasets",
   "help": ""
  }
 ],
 "mensurationCapabilities": "Basic,3D",
 "hasHistograms": true,
 "hasColormap": false,
 "hasRasterAttributeTable": false,
 "minScale": 0,
 "maxScale": 0,
 "exportTilesAllowed": false,
 "supportsStatistics": false,
 "supportsAdvancedQueries": false,
 "editFieldsInfo": null,
 "ownershipBasedAccessControlForRasters": null,
 "allowComputeTiePoints": false,
 "useStandardizedQueries": true,
 "advancedQueryCapabilities": {
  "useStandardizedQueries": true,
  "supportsStatistics": false,
  "supportsOrderBy": false,
  "supportsDistinct": false,
  "supportsPagination": false
 },
 "spatialReference": {
  "wkid": 2881,
  "latestWkid": 2881,
  "vcsWkid": 5703,
  "latestVcsWkid": 5703
 }
}
