View In:
ArcGIS JavaScript
ArcGIS Online Map Viewer
ArcGIS Earth
ArcMap
View Footprint In:
ArcGIS Online Map Viewer
Service Description: Drone Imagery
Name: Aerials/20240916_WilburByTheSea
Description: Drone Imagery
Single Fused Map Cache: false
Extent:
XMin: 503767.4972117794
YMin: 3221544.6139775408
XMax: 504716.4690440548
YMax: 3223165.774191011
Spatial Reference: 32617
(32617)
VCSWkid(5773)
LatestVCSWkid(5773)
Initial Extent:
XMin: 503767.4972117794
YMin: 3221544.6139775408
XMax: 504716.4690440548
YMax: 3223165.774191011
Spatial Reference: 32617
(32617)
VCSWkid(5773)
LatestVCSWkid(5773)
Full Extent:
XMin: 503767.4972117794
YMin: 3221544.6139775408
XMax: 504716.4690440548
YMax: 3223165.774191011
Spatial Reference: 32617
(32617)
VCSWkid(5773)
LatestVCSWkid(5773)
Pixel Size X: 0.019770246505737304
Pixel Size Y: 0.019770246505737304
Band Count: 3
Pixel Type: U8
RasterFunction Infos: {"rasterFunctionInfos": [{
"name": "None",
"description": "",
"help": ""
}]}
Mensuration Capabilities: Basic,3D
Has Histograms: false
Has Colormap: false
Has Multi Dimensions : false
Rendering Rule:
Min Scale: 0
Max Scale: 0
Copyright Text: VCPA
Service Data Type: esriImageServiceDataTypeRGB
Min Values: 1, 1, 1
Max Values: 254, 254, 254
Mean Values: 130.72764467438, 127.34573685737, 109.1914610213
Standard Deviation Values: 51.925933170439, 46.623875411023, 55.168638765847
Object ID Field:
Fields:
None
Default Mosaic Method: Center
Allowed Mosaic Methods:
SortField:
SortValue: null
Mosaic Operator: First
Default Compression Quality: 75
Default Resampling Method: Bilinear
Max Record Count: null
Max Image Height: 4100
Max Image Width: 15000
Max Download Image Count: null
Max Mosaic Image Count: null
Allow Raster Function: true
Allow Copy: true
Allow Analysis: true
Allow Compute TiePoints: false
Supports Statistics: false
Supports Advanced Queries: false
Use StandardizedQueries: true
Raster Type Infos:
Name: Raster Dataset
Description: Supports all ArcGIS Raster Datasets
Help:
Has Raster Attribute Table: false
Edit Fields Info: null
Ownership Based AccessControl For Rasters: null
Child Resources:
Info
Statistics
Key Properties
Legend
Raster Function Infos
Supported Operations:
Export Image
Identify
Measure
Compute Histograms
Compute Statistics Histograms
Get Samples
Compute Class Statistics
Query Boundary
Compute Pixel Location
Compute Angles
Validate
Project