{
 "currentVersion": 10.91,
 "serviceDescription": "Drone Imagery",
 "name": "Aerials/20240916_WilburByTheSea",
 "description": "Drone Imagery",
 "extent": {
  "xmin": 503767.4972117794,
  "ymin": 3221544.6139775408,
  "xmax": 504716.4690440548,
  "ymax": 3223165.774191011,
  "spatialReference": {
   "wkid": 32617,
   "latestWkid": 32617,
   "vcsWkid": 5773,
   "latestVcsWkid": 5773
  }
 },
 "initialExtent": {
  "xmin": 503767.4972117794,
  "ymin": 3221544.6139775408,
  "xmax": 504716.4690440548,
  "ymax": 3223165.774191011,
  "spatialReference": {
   "wkid": 32617,
   "latestWkid": 32617,
   "vcsWkid": 5773,
   "latestVcsWkid": 5773
  }
 },
 "fullExtent": {
  "xmin": 503767.4972117794,
  "ymin": 3221544.6139775408,
  "xmax": 504716.4690440548,
  "ymax": 3223165.774191011,
  "spatialReference": {
   "wkid": 32617,
   "latestWkid": 32617,
   "vcsWkid": 5773,
   "latestVcsWkid": 5773
  }
 },
 "heightModelInfo": {
  "heightModel": "gravity_related_height",
  "vertCRS": "EGM96_Geoid",
  "heightUnit": "meter"
 },
 "hasMultidimensions": false,
 "pixelSizeX": 0.019770246505737304,
 "pixelSizeY": 0.019770246505737304,
 "datasetFormat": "TIFF",
 "uncompressedSize": 11808000000,
 "blockWidth": 256,
 "blockHeight": 256,
 "compressionType": "LZW",
 "bandNames": [
  "Red",
  "Green",
  "Blue"
 ],
 "allowCopy": true,
 "allowAnalysis": true,
 "bandCount": 3,
 "noDataValue": 0,
 "noDataValues": [
  0,
  0,
  0
 ],
 "pixelType": "U8",
 "minPixelSize": 0,
 "maxPixelSize": 0,
 "copyrightText": "VCPA",
 "serviceDataType": "esriImageServiceDataTypeRGB",
 "serviceSourceType": "esriImageServiceSourceTypeDataset",
 "minValues": [
  1,
  1,
  1
 ],
 "maxValues": [
  254,
  254,
  254
 ],
 "meanValues": [
  130.72764467438,
  127.34573685737,
  109.1914610213
 ],
 "stdvValues": [
  51.925933170439,
  46.623875411023,
  55.168638765847
 ],
 "objectIdField": "",
 "fields": [],
 "capabilities": "Image,Metadata,Mensuration",
 "defaultMosaicMethod": "Center",
 "allowedMosaicMethods": "",
 "sortField": "",
 "sortValue": null,
 "sortAscending": true,
 "mosaicOperator": "First",
 "defaultCompressionQuality": 75,
 "defaultResamplingMethod": "Bilinear",
 "maxImageHeight": 4100,
 "maxImageWidth": 15000,
 "allowRasterFunction": true,
 "rasterFunctionInfos": [
  {
   "name": "None",
   "description": "",
   "help": ""
  }
 ],
 "rasterTypeInfos": [
  {
   "name": "Raster Dataset",
   "description": "Supports all ArcGIS Raster Datasets",
   "help": ""
  }
 ],
 "mensurationCapabilities": "Basic,3D",
 "hasHistograms": false,
 "hasColormap": false,
 "hasRasterAttributeTable": false,
 "minScale": 0,
 "maxScale": 0,
 "exportTilesAllowed": false,
 "supportsStatistics": false,
 "supportsAdvancedQueries": false,
 "editFieldsInfo": null,
 "ownershipBasedAccessControlForRasters": null,
 "allowComputeTiePoints": false,
 "useStandardizedQueries": true,
 "advancedQueryCapabilities": {
  "useStandardizedQueries": true,
  "supportsStatistics": false,
  "supportsOrderBy": false,
  "supportsDistinct": false,
  "supportsPagination": false
 },
 "spatialReference": {
  "wkid": 32617,
  "latestWkid": 32617,
  "vcsWkid": 5773,
  "latestVcsWkid": 5773
 }
}
