View In:
ArcGIS JavaScript
ArcGIS Online Map Viewer
ArcGIS Earth
ArcMap
View Footprint In:
ArcGIS Online Map Viewer
Service Description: Imagery Obtained from the CAP Program for Volusia County, Florida. Imagery is related to the scope of Hurricane Nicole in November 2022.Original Imagery obtained from .tif files and mosaicked into a single .tif for publication.
Name: Aerials/2022_HurricaneNicole
Description: Imagery Obtained from the CAP Program for Volusia County, Florida. Imagery is related to the scope of Hurricane Nicole in November 2022.Original Imagery obtained from .tif files and mosaicked into a single .tif for publication.
Single Fused Map Cache: false
Extent:
XMin: -9048894.265819276
YMin: 3362911.662700893
XMax: -8994603.707643142
YMax: 3465058.427096681
Spatial Reference: 102100
(3857)
LatestVCSWkid(0)
Initial Extent:
XMin: -9048894.265819276
YMin: 3362911.662700893
XMax: -8994603.707643142
YMax: 3465058.427096681
Spatial Reference: 102100
(3857)
LatestVCSWkid(0)
Full Extent:
XMin: -9048894.265819276
YMin: 3362911.662700893
XMax: -8994603.707643142
YMax: 3465058.427096681
Spatial Reference: 102100
(3857)
LatestVCSWkid(0)
Pixel Size X: 0.16079849947467437
Pixel Size Y: 0.16079849947467412
Band Count: 3
Pixel Type: U8
RasterFunction Infos: {"rasterFunctionInfos": [{
"name": "None",
"description": "",
"help": ""
}]}
Mensuration Capabilities: Basic
Has Histograms: true
Has Colormap: false
Has Multi Dimensions : false
Rendering Rule:
Min Scale: 0
Max Scale: 0
Copyright Text:
Service Data Type: esriImageServiceDataTypeRGB
Min Values: 0, 0, 0
Max Values: 255, 255, 255
Mean Values: 6.9593774168682, 7.4076676852026, 7.0844408632978
Standard Deviation Values: 22.709827732289, 23.318753444189, 21.886341070854
Object ID Field:
Fields:
None
Default Mosaic Method: Center
Allowed Mosaic Methods:
SortField:
SortValue: null
Mosaic Operator: First
Default Compression Quality: 75
Default Resampling Method: Bilinear
Max Record Count: null
Max Image Height: 4100
Max Image Width: 15000
Max Download Image Count: null
Max Mosaic Image Count: null
Allow Raster Function: true
Allow Copy: true
Allow Analysis: true
Allow Compute TiePoints: false
Supports Statistics: false
Supports Advanced Queries: false
Use StandardizedQueries: true
Raster Type Infos:
Name: Raster Dataset
Description: Supports all ArcGIS Raster Datasets
Help:
Has Raster Attribute Table: false
Edit Fields Info: null
Ownership Based AccessControl For Rasters: null
Child Resources:
Info
Histograms
Statistics
Key Properties
Legend
Raster Function Infos
Supported Operations:
Export Image
Identify
Measure
Compute Histograms
Compute Statistics Histograms
Get Samples
Compute Class Statistics
Query Boundary
Compute Pixel Location
Compute Angles
Validate
Project