{
 "currentVersion": 10.91,
 "serviceDescription": "Imagery Obtained from the CAP Program for Volusia County, Florida. Imagery is related to the scope of Hurricane Nicole in November 2022.Original Imagery obtained from .tif files and mosaicked into a single .tif for publication. ",
 "name": "Aerials/2022_HurricaneNicole",
 "description": "Imagery Obtained from the CAP Program for Volusia County, Florida. Imagery is related to the scope of Hurricane Nicole in November 2022.Original Imagery obtained from .tif files and mosaicked into a single .tif for publication. ",
 "extent": {
  "xmin": -9048894.265819276,
  "ymin": 3362911.662700893,
  "xmax": -8994603.707643142,
  "ymax": 3465058.427096681,
  "spatialReference": {
   "wkid": 102100,
   "latestWkid": 3857
  }
 },
 "initialExtent": {
  "xmin": -9048894.265819276,
  "ymin": 3362911.662700893,
  "xmax": -8994603.707643142,
  "ymax": 3465058.427096681,
  "spatialReference": {
   "wkid": 102100,
   "latestWkid": 3857
  }
 },
 "fullExtent": {
  "xmin": -9048894.265819276,
  "ymin": 3362911.662700893,
  "xmax": -8994603.707643142,
  "ymax": 3465058.427096681,
  "spatialReference": {
   "wkid": 102100,
   "latestWkid": 3857
  }
 },
 "hasMultidimensions": false,
 "pixelSizeX": 0.16079849947467437,
 "pixelSizeY": 0.16079849947467412,
 "datasetFormat": "TIFF",
 "uncompressedSize": 643437239571,
 "blockWidth": 128,
 "blockHeight": 128,
 "compressionType": "LZW",
 "bandNames": [
  "Band_1",
  "Band_2",
  "Band_3"
 ],
 "allowCopy": true,
 "allowAnalysis": true,
 "bandCount": 3,
 "noDataValue": 256,
 "noDataValues": [
  256,
  256,
  256
 ],
 "pixelType": "U8",
 "minPixelSize": 0,
 "maxPixelSize": 0,
 "copyrightText": "",
 "serviceDataType": "esriImageServiceDataTypeRGB",
 "serviceSourceType": "esriImageServiceSourceTypeDataset",
 "minValues": [
  0,
  0,
  0
 ],
 "maxValues": [
  255,
  255,
  255
 ],
 "meanValues": [
  6.9593774168682,
  7.4076676852026,
  7.0844408632978
 ],
 "stdvValues": [
  22.709827732289,
  23.318753444189,
  21.886341070854
 ],
 "objectIdField": "",
 "fields": [],
 "capabilities": "Mensuration,Image,Metadata",
 "defaultMosaicMethod": "Center",
 "allowedMosaicMethods": "",
 "sortField": "",
 "sortValue": null,
 "sortAscending": true,
 "mosaicOperator": "First",
 "defaultCompressionQuality": 75,
 "defaultResamplingMethod": "Bilinear",
 "maxImageHeight": 4100,
 "maxImageWidth": 15000,
 "allowRasterFunction": true,
 "rasterFunctionInfos": [
  {
   "name": "None",
   "description": "",
   "help": ""
  }
 ],
 "rasterTypeInfos": [
  {
   "name": "Raster Dataset",
   "description": "Supports all ArcGIS Raster Datasets",
   "help": ""
  }
 ],
 "mensurationCapabilities": "Basic",
 "hasHistograms": true,
 "hasColormap": false,
 "hasRasterAttributeTable": false,
 "minScale": 0,
 "maxScale": 0,
 "exportTilesAllowed": false,
 "supportsStatistics": false,
 "supportsAdvancedQueries": false,
 "editFieldsInfo": null,
 "ownershipBasedAccessControlForRasters": null,
 "allowComputeTiePoints": false,
 "useStandardizedQueries": true,
 "advancedQueryCapabilities": {
  "useStandardizedQueries": true,
  "supportsStatistics": false,
  "supportsOrderBy": false,
  "supportsDistinct": false,
  "supportsPagination": false
 },
 "spatialReference": {
  "wkid": 102100,
  "latestWkid": 3857
 }
}
