View In:
ArcGIS JavaScript
ArcGIS Online Map Viewer
ArcGIS Earth
ArcMap
View Footprint In:
ArcGIS Online Map Viewer
Service Description: 2010 Volusia County Aerial
Name: Aerials/2010_Aerial
Description: 2010 Volusia County Aerial
Single Fused Map Cache: false
Extent:
XMin: 435793.89591289946
YMin: 1536217.2095582404
XMax: 757299.1584128995
YMax: 1856715.256224907
Spatial Reference: 2881
(2881)
LatestVCSWkid(0)
Initial Extent:
XMin: 435793.89591289946
YMin: 1536217.2095582404
XMax: 757299.1584128995
YMax: 1856715.256224907
Spatial Reference: 2881
(2881)
LatestVCSWkid(0)
Full Extent:
XMin: 435793.89591289946
YMin: 1536217.2095582404
XMax: 757299.1584128995
YMax: 1856715.256224907
Spatial Reference: 2881
(2881)
LatestVCSWkid(0)
Pixel Size X: 3.2808333333333333
Pixel Size Y: 3.280833333333333
Band Count: 3
Pixel Type: U8
RasterFunction Infos: {"rasterFunctionInfos": [{
"name": "None",
"description": "",
"help": ""
}]}
Mensuration Capabilities: Basic
Has Histograms: true
Has Colormap: false
Has Multi Dimensions : false
Rendering Rule:
Min Scale: 0
Max Scale: 0
Min LOD: 0
Max LOD: 11
Copyright Text: Volusia GIS
Service Data Type: esriImageServiceDataTypeRGB
Min Values: 0, 0, 0
Max Values: 254, 252, 252
Mean Values: 53.738498263889, 64.030381944444, 65.094401041667
Standard Deviation Values: 55.694533417616, 64.957056705383, 65.286306775098
Object ID Field:
Fields:
None
Default Mosaic Method: Center
Allowed Mosaic Methods:
SortField:
SortValue: null
Mosaic Operator: First
Default Compression Quality: 75
Default Resampling Method: Bilinear
Max Record Count: null
Max Image Height: 4100
Max Image Width: 15000
Max Download Image Count: null
Max Mosaic Image Count: null
Allow Raster Function: true
Allow Copy: true
Allow Analysis: true
Allow Compute TiePoints: false
Supports Statistics: false
Supports Advanced Queries: false
Use StandardizedQueries: true
Raster Type Infos:
Name: Raster Dataset
Description: Supports all ArcGIS Raster Datasets
Help:
Has Raster Attribute Table: false
Edit Fields Info: null
Ownership Based AccessControl For Rasters: null
Child Resources:
Info
Histograms
Statistics
Key Properties
Legend
Raster Function Infos
Supported Operations:
Export Image
Identify
Measure
Compute Histograms
Compute Statistics Histograms
Get Samples
Compute Class Statistics
Query Boundary
Compute Pixel Location
Compute Angles
Validate
Project