{
 "currentVersion": 10.91,
 "serviceDescription": "2010 Volusia County Aerial",
 "name": "Aerials/2010_Aerial",
 "description": "2010 Volusia County Aerial",
 "extent": {
  "xmin": 435793.89591289946,
  "ymin": 1536217.2095582404,
  "xmax": 757299.1584128995,
  "ymax": 1856715.256224907,
  "spatialReference": {
   "wkid": 2881,
   "latestWkid": 2881
  }
 },
 "initialExtent": {
  "xmin": 435793.89591289946,
  "ymin": 1536217.2095582404,
  "xmax": 757299.1584128995,
  "ymax": 1856715.256224907,
  "spatialReference": {
   "wkid": 2881,
   "latestWkid": 2881
  }
 },
 "fullExtent": {
  "xmin": 435793.89591289946,
  "ymin": 1536217.2095582404,
  "xmax": 757299.1584128995,
  "ymax": 1856715.256224907,
  "spatialReference": {
   "wkid": 2881,
   "latestWkid": 2881
  }
 },
 "hasMultidimensions": false,
 "pixelSizeX": 3.2808333333333333,
 "pixelSizeY": 3.280833333333333,
 "datasetFormat": "MrSID",
 "uncompressedSize": 28718806680,
 "blockWidth": 1024,
 "blockHeight": 128,
 "compressionType": "Wavelet (MG3)",
 "bandNames": [
  "Band_1",
  "Band_2",
  "Band_3"
 ],
 "allowCopy": true,
 "allowAnalysis": true,
 "bandCount": 3,
 "pixelType": "U8",
 "minPixelSize": 0,
 "maxPixelSize": 0,
 "copyrightText": "Volusia GIS",
 "serviceDataType": "esriImageServiceDataTypeRGB",
 "serviceSourceType": "esriImageServiceSourceTypeDataset",
 "minValues": [
  0,
  0,
  0
 ],
 "maxValues": [
  254,
  252,
  252
 ],
 "meanValues": [
  53.738498263889,
  64.030381944444,
  65.094401041667
 ],
 "stdvValues": [
  55.694533417616,
  64.957056705383,
  65.286306775098
 ],
 "objectIdField": "",
 "fields": [],
 "capabilities": "Image,Metadata,Mensuration",
 "defaultMosaicMethod": "Center",
 "allowedMosaicMethods": "",
 "sortField": "",
 "sortValue": null,
 "sortAscending": true,
 "mosaicOperator": "First",
 "defaultCompressionQuality": 75,
 "defaultResamplingMethod": "Bilinear",
 "maxImageHeight": 4100,
 "maxImageWidth": 15000,
 "allowRasterFunction": true,
 "rasterFunctionInfos": [
  {
   "name": "None",
   "description": "",
   "help": ""
  }
 ],
 "rasterTypeInfos": [
  {
   "name": "Raster Dataset",
   "description": "Supports all ArcGIS Raster Datasets",
   "help": ""
  }
 ],
 "mensurationCapabilities": "Basic",
 "hasHistograms": true,
 "hasColormap": false,
 "hasRasterAttributeTable": false,
 "minScale": 0,
 "maxScale": 0,
 "minLOD": 0,
 "maxLOD": 11,
 "exportTilesAllowed": false,
 "supportsStatistics": false,
 "supportsAdvancedQueries": false,
 "editFieldsInfo": null,
 "ownershipBasedAccessControlForRasters": null,
 "allowComputeTiePoints": false,
 "useStandardizedQueries": true,
 "advancedQueryCapabilities": {
  "useStandardizedQueries": true,
  "supportsStatistics": false,
  "supportsOrderBy": false,
  "supportsDistinct": false,
  "supportsPagination": false
 },
 "spatialReference": {
  "wkid": 2881,
  "latestWkid": 2881
 }
}
