View In:
ArcGIS JavaScript
ArcGIS Online Map Viewer
ArcGIS Earth
ArcMap
View Footprint In:
ArcGIS Online Map Viewer
Service Description: 2005 Aerial for Voluisa County Florida
Name: Aerials/2005_Aerial
Description: 2005 Aerial for Voluisa County Florida
Single Fused Map Cache: false
Extent:
XMin: 422800.05218136974
YMin: 1538625.1804611345
XMax: 757002.139681373
YMax: 1869300.3721278044
Spatial Reference: 2881
(2881)
LatestVCSWkid(0)
Initial Extent:
XMin: 422800.05218136974
YMin: 1538625.1804611345
XMax: 757002.139681373
YMax: 1869300.3721278044
Spatial Reference: 2881
(2881)
LatestVCSWkid(0)
Full Extent:
XMin: 422800.05218136974
YMin: 1538625.1804611345
XMax: 757002.139681373
YMax: 1869300.3721278044
Spatial Reference: 2881
(2881)
LatestVCSWkid(0)
Pixel Size X: 3.2808333333333657
Pixel Size Y: 3.2808333333333657
Band Count: 4
Pixel Type: U8
RasterFunction Infos: {"rasterFunctionInfos": [{
"name": "None",
"description": "",
"help": ""
}]}
Mensuration Capabilities: Basic
Has Histograms: true
Has Colormap: false
Has Multi Dimensions : false
Rendering Rule:
Min Scale: 0
Max Scale: 0
Copyright Text: Volusia GIS
Service Data Type: esriImageServiceDataTypeGeneric
Min Values: 0, 0, 0, 0
Max Values: 255, 255, 255, 255
Mean Values: 77.774949494949, 89.209898989899, 80.55, 205.31575757576
Standard Deviation Values: 44.608470214707, 47.606401646917, 44.071636186573, 99.824687206829
Object ID Field:
Fields:
None
Default Mosaic Method: Center
Allowed Mosaic Methods:
SortField:
SortValue: null
Mosaic Operator: First
Default Compression Quality: 75
Default Resampling Method: Bilinear
Max Record Count: null
Max Image Height: 4100
Max Image Width: 15000
Max Download Image Count: null
Max Mosaic Image Count: null
Allow Raster Function: true
Allow Copy: true
Allow Analysis: true
Allow Compute TiePoints: false
Supports Statistics: false
Supports Advanced Queries: false
Use StandardizedQueries: true
Raster Type Infos:
Name: Raster Dataset
Description: Supports all ArcGIS Raster Datasets
Help:
Has Raster Attribute Table: false
Edit Fields Info: null
Ownership Based AccessControl For Rasters: null
Child Resources:
Info
Histograms
Statistics
Key Properties
Legend
Raster Function Infos
Supported Operations:
Export Image
Identify
Measure
Compute Histograms
Compute Statistics Histograms
Get Samples
Compute Class Statistics
Query Boundary
Compute Pixel Location
Compute Angles
Validate
Project
EstimateExportTilesSize
ExportTiles