{
 "currentVersion": 10.91,
 "serviceDescription": "2005 Aerial for Voluisa County Florida",
 "name": "Aerials/2005_Aerial",
 "description": "2005 Aerial for Voluisa County Florida",
 "extent": {
  "xmin": 422800.05218136974,
  "ymin": 1538625.1804611345,
  "xmax": 757002.139681373,
  "ymax": 1869300.3721278044,
  "spatialReference": {
   "wkid": 2881,
   "latestWkid": 2881
  }
 },
 "initialExtent": {
  "xmin": 422800.05218136974,
  "ymin": 1538625.1804611345,
  "xmax": 757002.139681373,
  "ymax": 1869300.3721278044,
  "spatialReference": {
   "wkid": 2881,
   "latestWkid": 2881
  }
 },
 "fullExtent": {
  "xmin": 422800.05218136974,
  "ymin": 1538625.1804611345,
  "xmax": 757002.139681373,
  "ymax": 1869300.3721278044,
  "spatialReference": {
   "wkid": 2881,
   "latestWkid": 2881
  }
 },
 "hasMultidimensions": false,
 "pixelSizeX": 3.2808333333333657,
 "pixelSizeY": 3.2808333333333657,
 "datasetFormat": "MrSID",
 "uncompressedSize": 41067893400,
 "blockWidth": 1024,
 "blockHeight": 128,
 "compressionType": "Wavelet (MG4)",
 "bandNames": [
  "Band_1",
  "Band_2",
  "Band_3",
  "Band_4"
 ],
 "allowCopy": true,
 "allowAnalysis": true,
 "bandCount": 4,
 "pixelType": "U8",
 "minPixelSize": 0,
 "maxPixelSize": 0,
 "copyrightText": "Volusia GIS",
 "serviceDataType": "esriImageServiceDataTypeGeneric",
 "serviceSourceType": "esriImageServiceSourceTypeDataset",
 "minValues": [
  0,
  0,
  0,
  0
 ],
 "maxValues": [
  255,
  255,
  255,
  255
 ],
 "meanValues": [
  77.774949494949,
  89.209898989899,
  80.55,
  205.31575757576
 ],
 "stdvValues": [
  44.608470214707,
  47.606401646917,
  44.071636186573,
  99.824687206829
 ],
 "objectIdField": "",
 "fields": [],
 "capabilities": "Image,Metadata,Mensuration",
 "defaultMosaicMethod": "Center",
 "allowedMosaicMethods": "",
 "sortField": "",
 "sortValue": null,
 "sortAscending": true,
 "mosaicOperator": "First",
 "defaultCompressionQuality": 75,
 "defaultResamplingMethod": "Bilinear",
 "maxImageHeight": 4100,
 "maxImageWidth": 15000,
 "allowRasterFunction": true,
 "rasterFunctionInfos": [
  {
   "name": "None",
   "description": "",
   "help": ""
  }
 ],
 "rasterTypeInfos": [
  {
   "name": "Raster Dataset",
   "description": "Supports all ArcGIS Raster Datasets",
   "help": ""
  }
 ],
 "mensurationCapabilities": "Basic",
 "hasHistograms": true,
 "hasColormap": false,
 "hasRasterAttributeTable": false,
 "minScale": 0,
 "maxScale": 0,
 "exportTilesAllowed": true,
 "maxExportTilesCount": 100000,
 "supportsStatistics": false,
 "supportsAdvancedQueries": false,
 "editFieldsInfo": null,
 "ownershipBasedAccessControlForRasters": null,
 "allowComputeTiePoints": false,
 "useStandardizedQueries": true,
 "advancedQueryCapabilities": {
  "useStandardizedQueries": true,
  "supportsStatistics": false,
  "supportsOrderBy": false,
  "supportsDistinct": false,
  "supportsPagination": false
 },
 "spatialReference": {
  "wkid": 2881,
  "latestWkid": 2881
 }
}
