View In:
ArcGIS JavaScript
ArcGIS Online Map Viewer
ArcGIS Earth
ArcMap
View Footprint In:
ArcGIS Online Map Viewer
Service Description: These files contain rasterized topobathy lidar elevations generated from data collected by the Coastal Zone Mapping and Imaging Lidar (CZMIL) system and topographic lidar elevations generated from data collected using a Teledyne ALTM Galaxy PRIME sensor. CZMIL integrates a lidar sensor with simultaneous topographic and bathymetric capabilities, a digital camera and a hyperspectral imager on a single remote sensing platform for use in coastal mapping and charting activities. Native lidar data is not generally in a format accessible to most Geographic Information Systems (GIS). Specialized in-house and commercial software packages are used to process the native lidar data into 3-dimensional positions that can be imported into GIS software for visualization and further analysis. Horizontal positions, provided in decimal degrees of latitude and longitude, are referenced to the North American Datum of 1983 Universal Transverse Mercator Zone 17 North(NAD83 UTM Zone 17N). Vertical positions are referenced to the NAD83 (2011) ellipsoid and provided in meters. The National Geodetic Survey's (NGS) GEOID18 model is used to transform the vertical positions from ellipsoid to orthometric heights referenced to the North American Vertical Datum of 1988 (NAVD88). The 3-D position data are sub-divided into a series of LAS files, which are tiled into 1-km by 1-km boxes defined by the Military Grid Reference System. The LAS file index is provided by the shape files, "MGRS_1km_17R.shp ", and the numbers used to identify files are in the "Box" field of the shape file. The data file naming convention is based on the year, effort, area, "Box" number and data product type. An example file name is "[2022_FEMA_FL_17RLL1680_BareEarth_1mGrid.tif", where 2022 is the year of data collection, FEMA is the effort under which data were collected, FL is the area of data collection, 17RLL1680 is the "Box" number and BareEarth_1mGrid is the data product type.
Name: Elevation/2022_PostNicole_DEM_Ft
Description: These files contain rasterized topobathy lidar elevations generated from data collected by the Coastal Zone Mapping and Imaging Lidar (CZMIL) system and topographic lidar elevations generated from data collected using a Teledyne ALTM Galaxy PRIME sensor. CZMIL integrates a lidar sensor with simultaneous topographic and bathymetric capabilities, a digital camera and a hyperspectral imager on a single remote sensing platform for use in coastal mapping and charting activities. Native lidar data is not generally in a format accessible to most Geographic Information Systems (GIS). Specialized in-house and commercial software packages are used to process the native lidar data into 3-dimensional positions that can be imported into GIS software for visualization and further analysis. Horizontal positions, provided in decimal degrees of latitude and longitude, are referenced to the North American Datum of 1983 Universal Transverse Mercator Zone 17 North(NAD83 UTM Zone 17N). Vertical positions are referenced to the NAD83 (2011) ellipsoid and provided in meters. The National Geodetic Survey's (NGS) GEOID18 model is used to transform the vertical positions from ellipsoid to orthometric heights referenced to the North American Vertical Datum of 1988 (NAVD88). The 3-D position data are sub-divided into a series of LAS files, which are tiled into 1-km by 1-km boxes defined by the Military Grid Reference System. The LAS file index is provided by the shape files, "MGRS_1km_17R.shp ", and the numbers used to identify files are in the "Box" field of the shape file. The data file naming convention is based on the year, effort, area, "Box" number and data product type. An example file name is "[2022_FEMA_FL_17RLL1680_BareEarth_1mGrid.tif", where 2022 is the year of data collection, FEMA is the effort under which data were collected, FL is the area of data collection, 17RLL1680 is the "Box" number and BareEarth_1mGrid is the data product type.
Single Fused Map Cache: false
Extent:
XMin: -81.6809260259184
YMin: 28.611181605471387
XMax: -80.7314929805615
YMax: 29.42711033117378
Spatial Reference: 104145
(6318)
LatestVCSWkid(0)
Initial Extent:
XMin: -81.6809260259184
YMin: 28.611181605471387
XMax: -80.7314929805615
YMax: 29.42711033117378
Spatial Reference: 104145
(6318)
LatestVCSWkid(0)
Full Extent:
XMin: -81.6809260259184
YMin: 28.611181605471387
XMax: -80.7314929805615
YMax: 29.42711033117378
Spatial Reference: 104145
(6318)
LatestVCSWkid(0)
Pixel Size X: 8.99928005760038E-6
Pixel Size Y: 8.999280057600335E-6
Band Count: 1
Pixel Type: F32
RasterFunction Infos: {"rasterFunctionInfos": [{
"name": "None",
"description": "",
"help": ""
}]}
Mensuration Capabilities: Basic,3D
Has Histograms: true
Has Colormap: false
Has Multi Dimensions : false
Rendering Rule:
Min Scale: 0
Max Scale: 0
Copyright Text: Acknowledgement of the Joint Airborne Lidar Bathymetry Technical Center of eXpertise (JALBTCX) would be appreciated in any publications or derived products.
Service Data Type: esriImageServiceDataTypeGeneric
Min Values: -9.272123336792
Max Values: 38.985488891602
Mean Values: 9.055697001885
Standard Deviation Values: 6.1721080403586
Object ID Field:
Fields:
None
Default Mosaic Method: Center
Allowed Mosaic Methods:
SortField:
SortValue: null
Mosaic Operator: First
Default Compression Quality: 75
Default Resampling Method: Bilinear
Max Record Count: null
Max Image Height: 4100
Max Image Width: 15000
Max Download Image Count: null
Max Mosaic Image Count: null
Allow Raster Function: true
Allow Copy: true
Allow Analysis: true
Allow Compute TiePoints: false
Supports Statistics: false
Supports Advanced Queries: false
Use StandardizedQueries: true
Raster Type Infos:
Name: Raster Dataset
Description: Supports all ArcGIS Raster Datasets
Help:
Has Raster Attribute Table: false
Edit Fields Info: null
Ownership Based AccessControl For Rasters: null
Child Resources:
Info
Histograms
Statistics
Key Properties
Legend
Raster Function Infos
Supported Operations:
Export Image
Identify
Measure
Compute Histograms
Compute Statistics Histograms
Get Samples
Compute Class Statistics
Query Boundary
Compute Pixel Location
Compute Angles
Validate
Project