View In:
ArcGIS JavaScript
ArcGIS Online Map Viewer
ArcGIS Earth
ArcMap
View Footprint In:
ArcGIS Online Map Viewer
Service Description: Volusia County 2018 High-Resolution Aerial
Name: Aerials/2018_Aerial
Description: Volusia County 2018 High-Resolution Aerial
Single Fused Map Cache: false
Extent:
XMin: 465000.0
YMin: 1555000.0
XMax: 745000.0
YMax: 1855000.0
Spatial Reference: 2881
(2881)
LatestVCSWkid(0)
Initial Extent:
XMin: 465000.0
YMin: 1555000.0
XMax: 745000.0
YMax: 1855000.0
Spatial Reference: 2881
(2881)
LatestVCSWkid(0)
Full Extent:
XMin: 465000.0
YMin: 1555000.0
XMax: 745000.0
YMax: 1855000.0
Spatial Reference: 2881
(2881)
LatestVCSWkid(0)
Pixel Size X: 0.25
Pixel Size Y: 0.25
Band Count: 4
Pixel Type: U8
RasterFunction Infos: {"rasterFunctionInfos": [{
"name": "None",
"description": "",
"help": ""
}]}
Mensuration Capabilities: Basic
Has Histograms: true
Has Colormap: false
Has Multi Dimensions : false
Rendering Rule:
Min Scale: 0
Max Scale: 100
Min LOD: 0
Max LOD: 11
Copyright Text: Volusia GIS
Service Data Type: esriImageServiceDataTypeGeneric
Min Values: 8, 21, 31, 0
Max Values: 255, 255, 255, 255
Mean Values: 195.04837446142, 193.87700744222, 185.02467685076, 110.69310614963
Standard Deviation Values: 69.186206072841, 69.93707479023, 80.074151507603, 124.99530433588
Object ID Field:
Fields:
None
Default Mosaic Method: Center
Allowed Mosaic Methods:
SortField:
SortValue: null
Mosaic Operator: First
Default Compression Quality: 75
Default Resampling Method: Bilinear
Max Record Count: null
Max Image Height: 4100
Max Image Width: 15000
Max Download Image Count: null
Max Mosaic Image Count: null
Allow Raster Function: true
Allow Copy: true
Allow Analysis: true
Allow Compute TiePoints: false
Supports Statistics: false
Supports Advanced Queries: false
Use StandardizedQueries: true
Raster Type Infos:
Name: Raster Dataset
Description: Supports all ArcGIS Raster Datasets
Help:
Has Raster Attribute Table: false
Edit Fields Info: null
Ownership Based AccessControl For Rasters: null
Child Resources:
Info
Histograms
Statistics
Key Properties
Legend
Raster Function Infos
Supported Operations:
Export Image
Identify
Measure
Compute Histograms
Compute Statistics Histograms
Get Samples
Compute Class Statistics
Query Boundary
Compute Pixel Location
Compute Angles
Validate
Project