View In:
ArcGIS JavaScript
ArcGIS Online Map Viewer
ArcGIS Earth
ArcMap
View Footprint In:
ArcGIS Online Map Viewer
Service Description: Volusia County Florida 2015 Aerial Imagery
Name: Aerials/2015_Aerial
Description: Volusia County Florida 2015 Aerial Imagery
Single Fused Map Cache: false
Extent:
XMin: -81.694794299144
YMin: 28.595916762216767
XMax: -80.72092875889149
YMax: 29.43646844706195
Spatial Reference: 4326
(4326)
LatestVCSWkid(0)
Initial Extent:
XMin: -81.694794299144
YMin: 28.595916762216767
XMax: -80.72092875889149
YMax: 29.43646844706195
Spatial Reference: 4326
(4326)
LatestVCSWkid(0)
Full Extent:
XMin: -81.694794299144
YMin: 28.595916762216767
XMax: -80.72092875889149
YMax: 29.43646844706195
Spatial Reference: 4326
(4326)
LatestVCSWkid(0)
Pixel Size X: 2.9257951367787898E-6
Pixel Size Y: 2.925795136778811E-6
Band Count: 3
Pixel Type: U8
RasterFunction Infos: {"rasterFunctionInfos": [{
"name": "None",
"description": "",
"help": ""
}]}
Mensuration Capabilities: Basic
Has Histograms: false
Has Colormap: false
Has Multi Dimensions : false
Rendering Rule:
Min Scale: 0
Max Scale: 0
Copyright Text: Volusia GIS
Service Data Type: esriImageServiceDataTypeRGB
Min Values: N/A
Max Values: N/A
Mean Values: N/A
Standard Deviation Values: N/A
Object ID Field:
Fields:
None
Default Mosaic Method: Center
Allowed Mosaic Methods:
SortField:
SortValue: null
Mosaic Operator: First
Default Compression Quality: 75
Default Resampling Method: Bilinear
Max Record Count: null
Max Image Height: 4100
Max Image Width: 15000
Max Download Image Count: null
Max Mosaic Image Count: null
Allow Raster Function: true
Allow Copy: true
Allow Analysis: true
Allow Compute TiePoints: false
Supports Statistics: false
Supports Advanced Queries: false
Use StandardizedQueries: true
Raster Type Infos:
Name: Raster Dataset
Description: Supports all ArcGIS Raster Datasets
Help:
Has Raster Attribute Table: false
Edit Fields Info: null
Ownership Based AccessControl For Rasters: null
Child Resources:
Info
Statistics
Key Properties
Legend
Raster Function Infos
Supported Operations:
Export Image
Identify
Measure
Compute Histograms
Compute Statistics Histograms
Get Samples
Compute Class Statistics
Query Boundary
Compute Pixel Location
Compute Angles
Validate
Project