View In:
ArcGIS JavaScript
ArcGIS Online Map Viewer
ArcGIS Earth
ArcMap
View Footprint In:
ArcGIS Online Map Viewer
Service Description: Volusia County 2012 Aerial Imagery
Name: Aerials/2012_Aerial
Description: Volusia County 2012 Aerial Imagery
Single Fused Map Cache: true
Tile Info:
- Height: 512
- Width: 512
- DPI: 96
-
Levels of Detail: 12
- Format: MIXED
- Compression Quality: 75.0
- LERC Error: NaN
- Origin: X: -1.77913E7
Y: 2.3981099999999993E7
- Spatial Reference: 2881
(2881)
LatestVCSWkid(0)
Storage Info:
- Storage Format: esriMapCacheStorageModeCompactV2
- Packet Size: 128
Extent:
XMin: 435000.5343265117
YMin: 1555001.4299714584
XMax: 744999.5343265117
YMax: 1854999.4299714584
Spatial Reference: 2881
(2881)
LatestVCSWkid(0)
Initial Extent:
XMin: 435000.5343265117
YMin: 1555001.4299714584
XMax: 744999.5343265117
YMax: 1854999.4299714584
Spatial Reference: 2881
(2881)
LatestVCSWkid(0)
Full Extent:
XMin: 435000.5343265117
YMin: 1555001.4299714584
XMax: 744999.5343265117
YMax: 1854999.4299714584
Spatial Reference: 2881
(2881)
LatestVCSWkid(0)
Pixel Size X: 0.9999999999999998
Pixel Size Y: 1.0
Band Count: 4
Pixel Type: U8
RasterFunction Infos: {"rasterFunctionInfos": [{
"name": "None",
"description": "",
"help": ""
}]}
Mensuration Capabilities: Basic
Has Histograms: true
Has Colormap: false
Has Multi Dimensions : false
Rendering Rule:
Min Scale: 1000000
Max Scale: 500
Min LOD: 0
Max LOD: 11
Copyright Text: Volusia GIS
Service Data Type: esriImageServiceDataTypeGeneric
Min Values: 0, 0, 0, 0
Max Values: 154, 167, 158, 255
Mean Values: 39.46692745377, 42.296052631579, 38.429409672831, 108.52631578947
Standard Deviation Values: 47.019134918182, 49.512912077254, 44.749174471355, 124.92743705032
Object ID Field:
Fields:
None
Default Mosaic Method: Center
Allowed Mosaic Methods:
SortField:
SortValue: null
Mosaic Operator: First
Default Compression Quality: 75
Default Resampling Method: Bilinear
Max Record Count: null
Max Image Height: 4100
Max Image Width: 15000
Max Download Image Count: null
Max Mosaic Image Count: null
Allow Raster Function: true
Allow Copy: true
Allow Analysis: true
Allow Compute TiePoints: false
Supports Statistics: false
Supports Advanced Queries: false
Use StandardizedQueries: true
Raster Type Infos:
Name: Raster Dataset
Description: Supports all ArcGIS Raster Datasets
Help:
Has Raster Attribute Table: false
Edit Fields Info: null
Ownership Based AccessControl For Rasters: null
Child Resources:
Info
Histograms
Statistics
Key Properties
Legend
Raster Function Infos
Supported Operations:
Export Image
Identify
Measure
Compute Histograms
Compute Statistics Histograms
Get Samples
Compute Class Statistics
Query Boundary
Compute Pixel Location
Compute Angles
Validate
Project