View In:
ArcGIS JavaScript
ArcGIS Online Map Viewer
ArcGIS Earth
ArcMap
View Footprint In:
ArcGIS Online Map Viewer
Service Description: 2008 Aerial Imagery for Volusia County Florida
Name: Aerials/2008_Aerial
Description: 2008 Aerial Imagery for Volusia County Florida
Single Fused Map Cache: true
Tile Info:
- Height: 512
- Width: 512
- DPI: 96
-
Levels of Detail: 12
- Format: MIXED
- Compression Quality: 75.0
- LERC Error: NaN
- Origin: X: -1.77913E7
Y: 2.39811E7
- Spatial Reference: 2881
(2881)
LatestVCSWkid(0)
Storage Info:
- Storage Format: esriMapCacheStorageModeCompactV2
- Packet Size: 128
Extent:
XMin: 472815.69030744996
YMin: 1554152.4110409492
XMax: 743263.0371631507
YMax: 1855104.4260885501
Spatial Reference: 2881
(2881)
LatestVCSWkid(0)
Initial Extent:
XMin: 472815.69030744996
YMin: 1554152.4110409492
XMax: 743263.0371631507
YMax: 1855104.4260885501
Spatial Reference: 2881
(2881)
LatestVCSWkid(0)
Full Extent:
XMin: 472815.69030744996
YMin: 1554152.4110409492
XMax: 743263.0371631507
YMax: 1855104.4260885501
Spatial Reference: 2881
(2881)
LatestVCSWkid(0)
Pixel Size X: 0.6666667000000019
Pixel Size Y: 0.6666667000000022
Band Count: 4
Pixel Type: U8
RasterFunction Infos: {"rasterFunctionInfos": [{
"name": "None",
"description": "",
"help": ""
}]}
Mensuration Capabilities: Basic
Has Histograms: true
Has Colormap: false
Has Multi Dimensions : false
Rendering Rule:
Min Scale: 1000000
Max Scale: 500
Min LOD: 0
Max LOD: 11
Copyright Text: Volusia GIS
Service Data Type: esriImageServiceDataTypeGeneric
Min Values: 0, 0, 0, 0
Max Values: 210, 192, 161, 255
Mean Values: 53.48, 54.811071428571, 40.727857142857, 113.85357142857
Standard Deviation Values: 60.351638869924, 61.094677862624, 45.606244196315, 124.58245686562
Object ID Field:
Fields:
None
Default Mosaic Method: Center
Allowed Mosaic Methods:
SortField:
SortValue: null
Mosaic Operator: First
Default Compression Quality: 75
Default Resampling Method: Bilinear
Max Record Count: null
Max Image Height: 4100
Max Image Width: 15000
Max Download Image Count: null
Max Mosaic Image Count: null
Allow Raster Function: true
Allow Copy: true
Allow Analysis: true
Allow Compute TiePoints: false
Supports Statistics: false
Supports Advanced Queries: false
Use StandardizedQueries: true
Raster Type Infos:
Name: Raster Dataset
Description: Supports all ArcGIS Raster Datasets
Help:
Has Raster Attribute Table: false
Edit Fields Info: null
Ownership Based AccessControl For Rasters: null
Child Resources:
Info
Histograms
Statistics
Key Properties
Legend
Raster Function Infos
Supported Operations:
Export Image
Identify
Measure
Compute Histograms
Compute Statistics Histograms
Get Samples
Compute Class Statistics
Query Boundary
Compute Pixel Location
Compute Angles
Validate
Project