View In:
ArcGIS JavaScript
ArcGIS Online Map Viewer
ArcGIS Earth
ArcMap
View Footprint In:
ArcGIS Online Map Viewer
Service Description: Volusia County Aerial 2007
Name: Aerials/2007_Aerial
Description: Volusia County Aerial 2007
Single Fused Map Cache: true
Tile Info:
- Height: 512
- Width: 512
- DPI: 96
-
Levels of Detail: 12
- Format: MIXED
- Compression Quality: 75.0
- LERC Error: NaN
- Origin: X: -1.77913E7
Y: 2.3981099999999993E7
- Spatial Reference: 2881
(2881)
LatestVCSWkid(0)
Storage Info:
- Storage Format: esriMapCacheStorageModeCompactV2
- Packet Size: 128
Extent:
XMin: 521193.980226
YMin: 1686228.60627
XMax: 690738.9802260001
YMax: 1725727.10627
Spatial Reference: 2881
(2881)
LatestVCSWkid(0)
Initial Extent:
XMin: 521193.980226
YMin: 1686228.60627
XMax: 690738.9802260001
YMax: 1725727.10627
Spatial Reference: 2881
(2881)
LatestVCSWkid(0)
Full Extent:
XMin: 521193.980226
YMin: 1686228.60627
XMax: 690738.9802260001
YMax: 1725727.10627
Spatial Reference: 2881
(2881)
LatestVCSWkid(0)
Pixel Size X: 0.5000000000000002
Pixel Size Y: 0.5
Band Count: 4
Pixel Type: U8
RasterFunction Infos: {"rasterFunctionInfos": [{
"name": "None",
"description": "",
"help": ""
}]}
Mensuration Capabilities: Basic
Has Histograms: true
Has Colormap: false
Has Multi Dimensions : false
Rendering Rule:
Min Scale: 1000000
Max Scale: 500
Min LOD: 0
Max LOD: 11
Copyright Text: Volusia GIS
Service Data Type: esriImageServiceDataTypeGeneric
Min Values: 0, 0, 0, 0
Max Values: 255, 255, 255, 255
Mean Values: 39.763515600865, 42.168365770775, 35.093296261971, 96.290855730615
Standard Deviation Values: 53.958194069073, 56.296959228428, 47.929408963586, 122.69546913487
Object ID Field:
Fields:
None
Default Mosaic Method: Center
Allowed Mosaic Methods:
SortField:
SortValue: null
Mosaic Operator: First
Default Compression Quality: 75
Default Resampling Method: Bilinear
Max Record Count: null
Max Image Height: 4100
Max Image Width: 15000
Max Download Image Count: null
Max Mosaic Image Count: null
Allow Raster Function: true
Allow Copy: true
Allow Analysis: true
Allow Compute TiePoints: false
Supports Statistics: false
Supports Advanced Queries: false
Use StandardizedQueries: true
Raster Type Infos:
Name: Raster Dataset
Description: Supports all ArcGIS Raster Datasets
Help:
Has Raster Attribute Table: false
Edit Fields Info: null
Ownership Based AccessControl For Rasters: null
Child Resources:
Info
Histograms
Statistics
Key Properties
Legend
Raster Function Infos
Supported Operations:
Export Image
Identify
Measure
Compute Histograms
Compute Statistics Histograms
Get Samples
Compute Class Statistics
Query Boundary
Compute Pixel Location
Compute Angles
Validate
Project