View In:
ArcGIS JavaScript
ArcGIS Online Map Viewer
ArcGIS Earth
ArcMap
View Footprint In:
ArcGIS Online Map Viewer
Service Description: Volusia County 1999 Black and White Aerial
Name: Aerials/1999_Aerial
Description: Volusia County 1999 Black and White Aerial
Single Fused Map Cache: false
Extent:
XMin: 260429.31694
YMin: 1513335.2875106107
XMax: 601121.5850501232
YMax: 1879355.6404199996
Spatial Reference: 2881
(2881)
LatestVCSWkid(0)
Initial Extent:
XMin: 260429.31694
YMin: 1513335.2875106107
XMax: 601121.5850501232
YMax: 1879355.6404199996
Spatial Reference: 2881
(2881)
LatestVCSWkid(0)
Full Extent:
XMin: 260429.31694
YMin: 1513335.2875106107
XMax: 601121.5850501232
YMax: 1879355.6404199996
Spatial Reference: 2881
(2881)
LatestVCSWkid(0)
Pixel Size X: 3.2808399999048867
Pixel Size Y: 3.280839999904887
Band Count: 3
Pixel Type: U8
RasterFunction Infos: {"rasterFunctionInfos": [{
"name": "None",
"description": "",
"help": ""
}]}
Mensuration Capabilities: Basic
Has Histograms: false
Has Colormap: false
Has Multi Dimensions : false
Rendering Rule:
Min Scale: 0
Max Scale: 0
Copyright Text: Volusia GIS
Service Data Type: esriImageServiceDataTypeRGB
Min Values: N/A
Max Values: N/A
Mean Values: N/A
Standard Deviation Values: N/A
Object ID Field:
Fields:
None
Default Mosaic Method: Center
Allowed Mosaic Methods:
SortField:
SortValue: null
Mosaic Operator: First
Default Compression Quality: 75
Default Resampling Method: Bilinear
Max Record Count: null
Max Image Height: 4100
Max Image Width: 15000
Max Download Image Count: null
Max Mosaic Image Count: null
Allow Raster Function: true
Allow Copy: true
Allow Analysis: true
Allow Compute TiePoints: false
Supports Statistics: false
Supports Advanced Queries: false
Use StandardizedQueries: true
Raster Type Infos:
Name: Raster Dataset
Description: Supports all ArcGIS Raster Datasets
Help:
Has Raster Attribute Table: false
Edit Fields Info: null
Ownership Based AccessControl For Rasters: null
Child Resources:
Info
Statistics
Key Properties
Legend
Raster Function Infos
Supported Operations:
Export Image
Identify
Measure
Compute Histograms
Compute Statistics Histograms
Get Samples
Compute Class Statistics
Query Boundary
Compute Pixel Location
Compute Angles
Validate
Project
EstimateExportTilesSize
ExportTiles