{
 "currentVersion": 10.91,
 "serviceDescription": "Volusia DEM 2022",
 "name": "Aerials/VolusiaDEM",
 "description": "Volusia DEM 2022",
 "extent": {
  "xmin": 439395,
  "ymin": 1605000,
  "xmax": 740000,
  "ymax": 1851597.5,
  "spatialReference": {
   "wkt": "PROJCS[\"NAD_1983_2011_Florida_East_ftUS\",GEOGCS[\"GCS_NAD83_2011\",DATUM[\"D_NAD83_National_Spatial_Reference_System_2011\",SPHEROID[\"GRS_1980\",6378137.0,298.257222101]],PRIMEM[\"Greenwich\",0.0],UNIT[\"Degree\",0.0174532925199433]],PROJECTION[\"Transverse_Mercator\"],PARAMETER[\"false_easting\",656166.667],PARAMETER[\"false_northing\",0.0],PARAMETER[\"central_meridian\",-81.0],PARAMETER[\"scale_factor\",0.999941177],PARAMETER[\"latitude_of_origin\",24.33333333333333],UNIT[\"Foot_US\",0.3048006096012192]]"
  }
 },
 "initialExtent": {
  "xmin": 439395,
  "ymin": 1605000,
  "xmax": 740000,
  "ymax": 1851597.5,
  "spatialReference": {
   "wkt": "PROJCS[\"NAD_1983_2011_Florida_East_ftUS\",GEOGCS[\"GCS_NAD83_2011\",DATUM[\"D_NAD83_National_Spatial_Reference_System_2011\",SPHEROID[\"GRS_1980\",6378137.0,298.257222101]],PRIMEM[\"Greenwich\",0.0],UNIT[\"Degree\",0.0174532925199433]],PROJECTION[\"Transverse_Mercator\"],PARAMETER[\"false_easting\",656166.667],PARAMETER[\"false_northing\",0.0],PARAMETER[\"central_meridian\",-81.0],PARAMETER[\"scale_factor\",0.999941177],PARAMETER[\"latitude_of_origin\",24.33333333333333],UNIT[\"Foot_US\",0.3048006096012192]]"
  }
 },
 "fullExtent": {
  "xmin": 439395,
  "ymin": 1605000,
  "xmax": 740000,
  "ymax": 1851597.5,
  "spatialReference": {
   "wkt": "PROJCS[\"NAD_1983_2011_Florida_East_ftUS\",GEOGCS[\"GCS_NAD83_2011\",DATUM[\"D_NAD83_National_Spatial_Reference_System_2011\",SPHEROID[\"GRS_1980\",6378137.0,298.257222101]],PRIMEM[\"Greenwich\",0.0],UNIT[\"Degree\",0.0174532925199433]],PROJECTION[\"Transverse_Mercator\"],PARAMETER[\"false_easting\",656166.667],PARAMETER[\"false_northing\",0.0],PARAMETER[\"central_meridian\",-81.0],PARAMETER[\"scale_factor\",0.999941177],PARAMETER[\"latitude_of_origin\",24.33333333333333],UNIT[\"Foot_US\",0.3048006096012192]]"
  }
 },
 "hasMultidimensions": false,
 "pixelSizeX": 2.5,
 "pixelSizeY": 2.5,
 "datasetFormat": "MrSID",
 "uncompressedSize": 35581651914,
 "blockWidth": 1024,
 "blockHeight": 128,
 "compressionType": "Wavelet (MG4)",
 "bandNames": [
  "Band_1",
  "Band_2"
 ],
 "allowCopy": true,
 "allowAnalysis": true,
 "bandCount": 3,
 "pixelType": "U8",
 "minPixelSize": 0,
 "maxPixelSize": 0,
 "copyrightText": "Volusia GIS",
 "serviceDataType": "esriImageServiceDataTypeRGB",
 "serviceSourceType": "esriImageServiceSourceTypeLayer",
 "minValues": [],
 "maxValues": [],
 "meanValues": [],
 "stdvValues": [],
 "objectIdField": "",
 "fields": [],
 "capabilities": "Mensuration,Image,Metadata",
 "defaultMosaicMethod": "Center",
 "allowedMosaicMethods": "",
 "sortField": "",
 "sortValue": null,
 "sortAscending": true,
 "mosaicOperator": "First",
 "defaultCompressionQuality": 75,
 "defaultResamplingMethod": "Bilinear",
 "maxImageHeight": 4100,
 "maxImageWidth": 15000,
 "allowRasterFunction": true,
 "rasterFunctionInfos": [
  {
   "name": "None",
   "description": "",
   "help": ""
  }
 ],
 "rasterTypeInfos": [
  {
   "name": "Raster Dataset",
   "description": "Supports all ArcGIS Raster Datasets",
   "help": ""
  }
 ],
 "mensurationCapabilities": "Basic,Base-Top Height,Top-Top Shadow Height,Base-Top Shadow Height,3D",
 "hasHistograms": false,
 "hasColormap": false,
 "hasRasterAttributeTable": false,
 "minScale": 0,
 "maxScale": 0,
 "exportTilesAllowed": false,
 "supportsStatistics": false,
 "supportsAdvancedQueries": false,
 "editFieldsInfo": null,
 "ownershipBasedAccessControlForRasters": null,
 "allowComputeTiePoints": false,
 "useStandardizedQueries": true,
 "advancedQueryCapabilities": {
  "useStandardizedQueries": true,
  "supportsStatistics": false,
  "supportsOrderBy": false,
  "supportsDistinct": false,
  "supportsPagination": false
 },
 "spatialReference": {
  "wkt": "PROJCS[\"NAD_1983_2011_Florida_East_ftUS\",GEOGCS[\"GCS_NAD83_2011\",DATUM[\"D_NAD83_National_Spatial_Reference_System_2011\",SPHEROID[\"GRS_1980\",6378137.0,298.257222101]],PRIMEM[\"Greenwich\",0.0],UNIT[\"Degree\",0.0174532925199433]],PROJECTION[\"Transverse_Mercator\"],PARAMETER[\"false_easting\",656166.667],PARAMETER[\"false_northing\",0.0],PARAMETER[\"central_meridian\",-81.0],PARAMETER[\"scale_factor\",0.999941177],PARAMETER[\"latitude_of_origin\",24.33333333333333],UNIT[\"Foot_US\",0.3048006096012192]]"
 }
}
