{
 "currentVersion": 10.91,
 "serviceDescription": "Volusia County 2021 Aerial Imagery\nNot Cached",
 "name": "Aerials/Aerial_2021_NoCache",
 "description": "Volusia County 2021 Aerial Imagery\nNot Cached",
 "extent": {
  "xmin": 464999.99999999837,
  "ymin": 1555000.0000000005,
  "xmax": 744999.9999999984,
  "ymax": 1855000.0000000005,
  "spatialReference": {
   "wkid": 103022,
   "latestWkid": 6438
  }
 },
 "initialExtent": {
  "xmin": 464999.99999999837,
  "ymin": 1555000.0000000005,
  "xmax": 744999.9999999984,
  "ymax": 1855000.0000000005,
  "spatialReference": {
   "wkid": 103022,
   "latestWkid": 6438
  }
 },
 "fullExtent": {
  "xmin": 464999.99999999837,
  "ymin": 1555000.0000000005,
  "xmax": 744999.9999999984,
  "ymax": 1855000.0000000005,
  "spatialReference": {
   "wkid": 103022,
   "latestWkid": 6438
  }
 },
 "hasMultidimensions": false,
 "pixelSizeX": 0.5,
 "pixelSizeY": 0.5,
 "datasetFormat": "MrSID",
 "uncompressedSize": 1008000000000,
 "blockWidth": 1024,
 "blockHeight": 128,
 "compressionType": "Wavelet (MG4)",
 "bandNames": [
  "Band_1",
  "Band_2",
  "Band_3",
  "Band_4",
  "Band_5"
 ],
 "allowCopy": true,
 "allowAnalysis": true,
 "bandCount": 3,
 "pixelType": "U8",
 "minPixelSize": 0,
 "maxPixelSize": 0,
 "copyrightText": "",
 "serviceDataType": "esriImageServiceDataTypeRGB",
 "serviceSourceType": "esriImageServiceSourceTypeLayer",
 "minValues": [],
 "maxValues": [],
 "meanValues": [],
 "stdvValues": [],
 "objectIdField": "",
 "fields": [],
 "capabilities": "Mensuration,Image,Metadata",
 "defaultMosaicMethod": "Center",
 "allowedMosaicMethods": "",
 "sortField": "",
 "sortValue": null,
 "sortAscending": true,
 "mosaicOperator": "First",
 "defaultCompressionQuality": 75,
 "defaultResamplingMethod": "Bilinear",
 "maxImageHeight": 4100,
 "maxImageWidth": 15000,
 "allowRasterFunction": true,
 "rasterFunctionInfos": [
  {
   "name": "None",
   "description": "",
   "help": ""
  }
 ],
 "rasterTypeInfos": [
  {
   "name": "Raster Dataset",
   "description": "Supports all ArcGIS Raster Datasets",
   "help": ""
  }
 ],
 "mensurationCapabilities": "Basic",
 "hasHistograms": false,
 "hasColormap": false,
 "hasRasterAttributeTable": false,
 "minScale": 0,
 "maxScale": 0,
 "exportTilesAllowed": false,
 "supportsStatistics": false,
 "supportsAdvancedQueries": false,
 "editFieldsInfo": null,
 "ownershipBasedAccessControlForRasters": null,
 "allowComputeTiePoints": false,
 "useStandardizedQueries": true,
 "advancedQueryCapabilities": {
  "useStandardizedQueries": true,
  "supportsStatistics": false,
  "supportsOrderBy": false,
  "supportsDistinct": false,
  "supportsPagination": false
 },
 "spatialReference": {
  "wkid": 103022,
  "latestWkid": 6438
 }
}
