{
 "currentVersion": 10.91,
 "serviceDescription": "Flown between the dates of 01/14/2023 - 02/27/2023. Obtained and distributed via Volusia County Property Appraiser",
 "name": "Aerials/2023_Aerial",
 "description": "Flown between the dates of 01/14/2023 - 02/27/2023. Obtained and distributed via Volusia County Property Appraiser",
 "extent": {
  "xmin": 465000,
  "ymin": 1555000,
  "xmax": 744999.75,
  "ymax": 1855000,
  "spatialReference": {
   "wkid": 103022,
   "latestWkid": 6438
  }
 },
 "initialExtent": {
  "xmin": 465000,
  "ymin": 1555000,
  "xmax": 744999.75,
  "ymax": 1855000,
  "spatialReference": {
   "wkid": 103022,
   "latestWkid": 6438
  }
 },
 "fullExtent": {
  "xmin": 465000,
  "ymin": 1555000,
  "xmax": 744999.75,
  "ymax": 1855000,
  "spatialReference": {
   "wkid": 103022,
   "latestWkid": 6438
  }
 },
 "hasMultidimensions": false,
 "pixelSizeX": 0.25,
 "pixelSizeY": 0.25,
 "datasetFormat": "MrSID",
 "uncompressedSize": 4031996400000,
 "blockWidth": 1024,
 "blockHeight": 128,
 "compressionType": "Wavelet (MG4)",
 "bandNames": [
  "Band_1",
  "Band_2",
  "Band_3",
  "Band_4"
 ],
 "allowCopy": true,
 "allowAnalysis": true,
 "bandCount": 3,
 "pixelType": "U8",
 "minPixelSize": 0,
 "maxPixelSize": 0,
 "copyrightText": "VCPA",
 "serviceDataType": "esriImageServiceDataTypeRGB",
 "serviceSourceType": "esriImageServiceSourceTypeLayer",
 "minValues": [],
 "maxValues": [],
 "meanValues": [],
 "stdvValues": [],
 "objectIdField": "",
 "fields": [],
 "capabilities": "Mensuration,Image,Metadata",
 "defaultMosaicMethod": "Center",
 "allowedMosaicMethods": "",
 "sortField": "",
 "sortValue": null,
 "sortAscending": true,
 "mosaicOperator": "First",
 "defaultCompressionQuality": 75,
 "defaultResamplingMethod": "Bilinear",
 "maxImageHeight": 4100,
 "maxImageWidth": 15000,
 "allowRasterFunction": true,
 "rasterFunctionInfos": [
  {
   "name": "None",
   "description": "",
   "help": ""
  }
 ],
 "rasterTypeInfos": [
  {
   "name": "Raster Dataset",
   "description": "Supports all ArcGIS Raster Datasets",
   "help": ""
  }
 ],
 "mensurationCapabilities": "Basic",
 "hasHistograms": false,
 "hasColormap": false,
 "hasRasterAttributeTable": false,
 "minScale": 0,
 "maxScale": 0,
 "exportTilesAllowed": false,
 "supportsStatistics": false,
 "supportsAdvancedQueries": false,
 "editFieldsInfo": null,
 "ownershipBasedAccessControlForRasters": null,
 "allowComputeTiePoints": false,
 "useStandardizedQueries": true,
 "advancedQueryCapabilities": {
  "useStandardizedQueries": true,
  "supportsStatistics": false,
  "supportsOrderBy": false,
  "supportsDistinct": false,
  "supportsPagination": false
 },
 "spatialReference": {
  "wkid": 103022,
  "latestWkid": 6438
 }
}
